BEGIN:VCALENDAR
VERSION:2.0
PRODID:-//For Gedi - ECPv6.15.18//NONSGML v1.0//EN
CALSCALE:GREGORIAN
METHOD:PUBLISH
X-WR-CALNAME:For Gedi
X-ORIGINAL-URL:https://forgedi.org
X-WR-CALDESC:Events for For Gedi
REFRESH-INTERVAL;VALUE=DURATION:PT1H
X-Robots-Tag:noindex
X-PUBLISHED-TTL:PT1H
BEGIN:VTIMEZONE
TZID:Europe/Ljubljana
BEGIN:DAYLIGHT
TZOFFSETFROM:+0100
TZOFFSETTO:+0200
TZNAME:CEST
DTSTART:20250330T010000
END:DAYLIGHT
BEGIN:STANDARD
TZOFFSETFROM:+0200
TZOFFSETTO:+0100
TZNAME:CET
DTSTART:20251026T010000
END:STANDARD
BEGIN:DAYLIGHT
TZOFFSETFROM:+0100
TZOFFSETTO:+0200
TZNAME:CEST
DTSTART:20260329T010000
END:DAYLIGHT
BEGIN:STANDARD
TZOFFSETFROM:+0200
TZOFFSETTO:+0100
TZNAME:CET
DTSTART:20261025T010000
END:STANDARD
BEGIN:DAYLIGHT
TZOFFSETFROM:+0100
TZOFFSETTO:+0200
TZNAME:CEST
DTSTART:20270328T010000
END:DAYLIGHT
BEGIN:STANDARD
TZOFFSETFROM:+0200
TZOFFSETTO:+0100
TZNAME:CET
DTSTART:20271031T010000
END:STANDARD
END:VTIMEZONE
BEGIN:VEVENT
DTSTART;VALUE=DATE:20261123
DTEND;VALUE=DATE:20261127
DTSTAMP:20260420T000354
CREATED:20260324T102518Z
LAST-MODIFIED:20260324T102623Z
UID:1681-1795392000-1795737599@forgedi.org
SUMMARY:IUFRO 4.05 Conference Forest-Based Value Chains in Transition: Innovation\, Employment\, Diversity & Inclusion for Sustainable Futures
DESCRIPTION:
URL:https://forgedi.org/event/iufro-4-05-annual-conference-forest-based-value-chains-in-transition-innovation-employment-diversity-and-inclusion-for-sustainable-futures/
CATEGORIES:TF Conference
END:VEVENT
END:VCALENDAR