BEGIN:VCALENDAR
VERSION:2.0
PRODID:-//For Gedi - ECPv6.15.18//NONSGML v1.0//EN
CALSCALE:GREGORIAN
METHOD:PUBLISH
X-ORIGINAL-URL:https://forgedi.org
X-WR-CALDESC:Events for For Gedi
REFRESH-INTERVAL;VALUE=DURATION:PT1H
X-Robots-Tag:noindex
X-PUBLISHED-TTL:PT1H
BEGIN:VTIMEZONE
TZID:Europe/Ljubljana
BEGIN:DAYLIGHT
TZOFFSETFROM:+0100
TZOFFSETTO:+0200
TZNAME:CEST
DTSTART:20240331T010000
END:DAYLIGHT
BEGIN:STANDARD
TZOFFSETFROM:+0200
TZOFFSETTO:+0100
TZNAME:CET
DTSTART:20241027T010000
END:STANDARD
BEGIN:DAYLIGHT
TZOFFSETFROM:+0100
TZOFFSETTO:+0200
TZNAME:CEST
DTSTART:20250330T010000
END:DAYLIGHT
BEGIN:STANDARD
TZOFFSETFROM:+0200
TZOFFSETTO:+0100
TZNAME:CET
DTSTART:20251026T010000
END:STANDARD
BEGIN:DAYLIGHT
TZOFFSETFROM:+0100
TZOFFSETTO:+0200
TZNAME:CEST
DTSTART:20260329T010000
END:DAYLIGHT
BEGIN:STANDARD
TZOFFSETFROM:+0200
TZOFFSETTO:+0100
TZNAME:CET
DTSTART:20261025T010000
END:STANDARD
END:VTIMEZONE
BEGIN:VEVENT
DTSTART;VALUE=DATE:20251127
DTEND;VALUE=DATE:20251128
DTSTAMP:20260423T180447
CREATED:20251121T151810Z
LAST-MODIFIED:20251121T162542Z
UID:1596-1764201600-1764287999@forgedi.org
SUMMARY:Bring gender equality into your teaching
DESCRIPTION:Do you teach at university level within the green sector? Welcome to participate in a course day on Method manual for gender equality by SNS. his is a valuable opportunity to explore how the manual can be used as a practical tool in your own work and teaching to increase gender equality in the green sectors.
URL:https://forgedi.org/event/bring-gender-equality-into-your-teaching/
LOCATION:Swedish University of Agricultural Sciences\,\, Alnarp\, Sweden
CATEGORIES:Workshop
END:VEVENT
END:VCALENDAR